BEGIN:VCALENDAR
VERSION:2.0
PRODID:-//TYPO3/NONSGML News system (news)//EN
BEGIN:VEVENT
UID:news-5029@www.musee-bossuet.fr
DTSTAMP:20260414T160608
DTSTART:20261211T180000
DTEND:20261211T180000
SUMMARY:Visite nocturne : La nuit au musée Bossuet !
CATEGORIES:Visite guidée
DESCRIPTION:À la nuit tombée, poussez la porte du musée Bossuet ! 
LOCATION:Musée Bossuet 
END:VEVENT
END:VCALENDAR