BEGIN:VCALENDAR
VERSION:2.0
PRODID:-//TYPO3/NONSGML News system (news)//EN
BEGIN:VEVENT
UID:news-5007@www.musee-bossuet.fr
DTSTAMP:20260414T154311
DTSTART:20260826T150000
DTEND:20260826T150000
SUMMARY:Visite insolite : Parcours secrets de la Cité épiscopale
CATEGORIES:Visite guidée
DESCRIPTION:Certaines portes ne s’ouvrent que très rarement... 
LOCATION:Musée Bossuet 
END:VEVENT
END:VCALENDAR