BEGIN:VCALENDAR
VERSION:2.0
PRODID:-//TYPO3/NONSGML News system (news)//EN
BEGIN:VEVENT
UID:news-5008@www.musee-bossuet.fr
DTSTAMP:20260414T154342
DTSTART:20260830T150000
DTEND:20260830T150000
SUMMARY:Visite insolite : Le palais épiscopal de fond en comble
CATEGORIES:Visite guidée
DESCRIPTION:Entrez dans les coulisses de l’ancien palais des évêques 
 de Meaux 
LOCATION:Musée Bossuet 
END:VEVENT
END:VCALENDAR