BEGIN:VCALENDAR
VERSION:2.0
PRODID:-//TYPO3/NONSGML News system (news)//EN
BEGIN:VEVENT
UID:news-5019@www.musee-bossuet.fr
DTSTAMP:20260414T154925
DTSTART:20261028T150000
DTEND:20261028T150000
SUMMARY:Visite insolite : Le palais épiscopal de fond en comble
CATEGORIES:Visite guidée
DESCRIPTION:Entrez dans les coulisses de l’ancien palais des évêques 
 de Meaux
LOCATION:Musée Bossuet 
END:VEVENT
END:VCALENDAR