BEGIN:VCALENDAR
VERSION:2.0
PRODID:-//TYPO3/NONSGML News system (news)//EN
BEGIN:VEVENT
UID:news-5030@www.musee-bossuet.fr
DTSTAMP:20260415T123055
DTSTART:20261219T150000
DTEND:20261219T150000
SUMMARY:Visite guidée : La cathédrale et son architecture
CATEGORIES:Sacré Cathédrale !, Visite guidée
DESCRIPTION:Venez découvrir ou redécouvrir ce monument exceptionnel
LOCATION:Musée Bossuet 
END:VEVENT
END:VCALENDAR