BEGIN:VCALENDAR
VERSION:2.0
PRODID:-//TYPO3/NONSGML News system (news)//EN
BEGIN:VEVENT
UID:news-5006@www.musee-bossuet.fr
DTSTAMP:20260415T123030
DTSTART:20260822T150000
DTEND:20260822T150000
SUMMARY:Visite guidée : La cathédrale et ses sculptures cachées
CATEGORIES:Sacré Cathédrale !, Visite guidée
DESCRIPTION:Ce parcours vous emmène à la découverte de sculptures 
 cachées
LOCATION:Musée Bossuet 
END:VEVENT
END:VCALENDAR