BEGIN:VCALENDAR
VERSION:2.0
PRODID:-//TYPO3/NONSGML News system (news)//EN
BEGIN:VEVENT
UID:news-5005@www.musee-bossuet.fr
DTSTAMP:20260415T123513
DTSTART:20260808T150000
DTEND:20260808T150000
SUMMARY:Visite guidée : Exposition Sacrée cathédrale !
CATEGORIES:Sacré Cathédrale !, Visite guidée
DESCRIPTION:Partez à la découverte de l’histoire de la cathédrale 
 Saint-Étienne de Meaux
LOCATION:Musée Bossuet 
END:VEVENT
END:VCALENDAR