BEGIN:VCALENDAR
VERSION:2.0
PRODID:-//TYPO3/NONSGML News system (news)//EN
BEGIN:VEVENT
UID:news-5027@www.musee-bossuet.fr
DTSTAMP:20260414T160257
DTSTART:20261128T150000
DTEND:20261128T150000
SUMMARY:Visite guidée : Découverte de la Cité épiscopale
CATEGORIES:Visite guidée
DESCRIPTION:Parcourez cet ensemble architectural unique en 
 Île-de-France
LOCATION:Musée Bossuet 
END:VEVENT
END:VCALENDAR