BEGIN:VCALENDAR
VERSION:2.0
PRODID:-//TYPO3/NONSGML News system (news)//EN
BEGIN:VEVENT
UID:news-5020@www.musee-bossuet.fr
DTSTAMP:20260414T155024
DTSTART:20261029T110000
DTEND:20261029T110000
SUMMARY:Visite-doudou pour les bouts d’choux
CATEGORIES:Visite jeune public
DESCRIPTION:3-6 ans
LOCATION:Musée Bossuet 
END:VEVENT
END:VCALENDAR