BEGIN:VCALENDAR
VERSION:2.0
PRODID:-//TYPO3/NONSGML News system (news)//EN
BEGIN:VEVENT
UID:news-5017@www.musee-bossuet.fr
DTSTAMP:20260414T154541
DTSTART:20261022T110000
DTEND:20261022T110000
SUMMARY:Visite-doudou pour les bouts d’choux
CATEGORIES:Visite jeune public
DESCRIPTION:3-6 ans
LOCATION:Musée Bossuet 
END:VEVENT
END:VCALENDAR