BEGIN:VCALENDAR
VERSION:2.0
PRODID:-//TYPO3/NONSGML News system (news)//EN
BEGIN:VEVENT
UID:news-5031@www.musee-bossuet.fr
DTSTAMP:20260414T160924
DTSTART:20261223T150000
DTEND:20261223T150000
SUMMARY:Visite contée : Contes et histoires d’hiver
CATEGORIES:Visite jeune public
DESCRIPTION:À partir de 5 ans
LOCATION:Musée Bossuet 
END:VEVENT
END:VCALENDAR