BEGIN:VCALENDAR
VERSION:2.0
PRODID:-//TYPO3/NONSGML News system (news)//EN
BEGIN:VEVENT
UID:news-5023@www.musee-bossuet.fr
DTSTAMP:20260414T155242
DTSTART:20261104T150000
DTEND:20261104T150000
SUMMARY:Visite-conférence : Rencontre avec l’artiste Silvère Jarrosson
CATEGORIES:Visite-conférence
DESCRIPTION:L’exposition Rouge, Silvère Jarrosson, autour du martyr 
 de saint Sébastien
LOCATION:Musée Bossuet 
END:VEVENT
END:VCALENDAR