BEGIN:VCALENDAR
VERSION:2.0
PRODID:-//TYPO3/NONSGML News system (news)//EN
BEGIN:VEVENT
UID:news-5003@www.musee-bossuet.fr
DTSTAMP:20260414T154215
DTSTART:20260805T150000
DTEND:20260805T150000
SUMMARY:Visite-conférence : Projet d’affiche par Tsugouharu Foujita (1886–1968)
CATEGORIES:Visite-conférence
DESCRIPTION:Par Inès Kaiser, médiatrice culturelle, Cité épiscopale
END:VEVENT
END:VCALENDAR