BEGIN:VCALENDAR
VERSION:2.0
PRODID:-//TYPO3/NONSGML News system (news)//EN
BEGIN:VEVENT
UID:news-5028@www.musee-bossuet.fr
DTSTAMP:20260414T160442
DTSTART:20261202T150000
DTEND:20261202T150000
SUMMARY:Visite-conférence : Le revers du luxe : les arts décoratifs face à la mémoire de l’esclavage
CATEGORIES:Visite-conférence
DESCRIPTION:Le revers du luxe : les arts décoratifs face à la mémoire 
 de l’esclavage
LOCATION:Musée Bossuet 
END:VEVENT
END:VCALENDAR