BEGIN:VCALENDAR
VERSION:2.0
PRODID:-//TYPO3/NONSGML News system (news)//EN
BEGIN:VEVENT
UID:news-5009@www.musee-bossuet.fr
DTSTAMP:20260414T154358
DTSTART:20260902T150000
DTEND:20260902T150000
SUMMARY:Visite-conférence : La galerie Marmottan du palais épiscopal
CATEGORIES:Visite-conférence
DESCRIPTION:Par Arnaud Valdenaire, directeur adjoint, Cité épiscopale
LOCATION:Musée Bossuet 
END:VEVENT
END:VCALENDAR