BEGIN:VCALENDAR
VERSION:2.0
PRODID:-//TYPO3/NONSGML News system (news)//EN
BEGIN:VEVENT
UID:news-5011@www.musee-bossuet.fr
DTSTAMP:20260415T123009
DTSTART:20261007T150000
DTEND:20261007T150000
SUMMARY:Visite-conférence : La cathédrale se dévoile
CATEGORIES:Sacré Cathédrale !, Visite-conférence
DESCRIPTION:L’exposition inédite Sacrée cathédrale !
LOCATION:Musée Bossuet 
END:VEVENT
END:VCALENDAR