BEGIN:VCALENDAR
VERSION:2.0
PRODID:-//TYPO3/NONSGML News system (news)//EN
BEGIN:VEVENT
UID:news-5012@www.musee-bossuet.fr
DTSTAMP:20260414T154442
DTSTART:20261010T100000
DTEND:20261010T100000
SUMMARY:Ouverture de l’exposition Rouge, Silvère Jarrosson, autour du martyr de saint Sébastien
CATEGORIES:
DESCRIPTION:La chapelle haute du musée Bossuet accueille une exposition 
 inédite
LOCATION:Musée Bossuet 
END:VEVENT
END:VCALENDAR