BEGIN:VCALENDAR
VERSION:2.0
PRODID:-//TYPO3/NONSGML News system (news)//EN
BEGIN:VEVENT
UID:news-5015@www.musee-bossuet.fr
DTSTAMP:20260414T154513
DTSTART:20261017T000000
DTEND:20261018T000000
SUMMARY:Journées nationales de l’architecture : Week-end Archi famille !
CATEGORIES:
DESCRIPTION:À l’occasion des Journées nationales de l’architecture
LOCATION:Musée Bossuet 
END:VEVENT
END:VCALENDAR