BEGIN:VCALENDAR
VERSION:2.0
PRODID:-//TYPO3/NONSGML News system (news)//EN
BEGIN:VEVENT
UID:news-5010@www.musee-bossuet.fr
DTSTAMP:20260414T154409
DTSTART:20260919T000000
DTEND:20260920T000000
SUMMARY:Journées européennes du patrimoine
CATEGORIES:
DESCRIPTION:Samedi 19 et Dimanche 20 septembre
END:VEVENT
END:VCALENDAR