BEGIN:VCALENDAR
VERSION:2.0
PRODID:-//TYPO3/NONSGML News system (news)//EN
BEGIN:VEVENT
UID:news-5026@www.musee-bossuet.fr
DTSTAMP:20260415T122955
DTSTART:20261126T170000
DTEND:20261126T170000
SUMMARY:Conférence : La sculpture des portails de la cathédrale de Meaux
CATEGORIES:Conférence, Sacré Cathédrale !
DESCRIPTION:Par Iliana Kasarska, maître de conférences en histoire de 
 l'art médiéval, Institut catholique de Paris
LOCATION:Musée Bossuet 
END:VEVENT
END:VCALENDAR