BEGIN:VCALENDAR
VERSION:2.0
PRODID:-//TYPO3/NONSGML News system (news)//EN
BEGIN:VEVENT
UID:news-5014@www.musee-bossuet.fr
DTSTAMP:20260415T122943
DTSTART:20261015T170000
DTEND:20261015T170000
SUMMARY:Conférence : Cathédrales contemporaines, un renouveau des formes architecturales ?
CATEGORIES:Conférence, Sacré Cathédrale !
DESCRIPTION:Par Cléa Calderoni, historienne de l'architecture et du 
 patrimoine du 20e siècle
LOCATION:Musée Bossuet 
END:VEVENT
END:VCALENDAR