BEGIN:VCALENDAR
VERSION:2.0
PRODID:-//TYPO3/NONSGML News system (news)//EN
BEGIN:VEVENT
UID:news-5018@www.musee-bossuet.fr
DTSTAMP:20260414T155107
DTSTART:20261029T150000
DTEND:20261029T150000
SUMMARY:Atelier créatif Punch needle
CATEGORIES:Atelier jeune public
DESCRIPTION:7-12 ans
LOCATION:Musée Bossuet 
END:VEVENT
END:VCALENDAR